BEGIN:VCALENDAR
X-WR-TIMEZONE:Europe/Berlin
X-WR-CALNAME:rbb-Kalender
VERSION:2.0
METHOD:PUBLISH
CALSCALE:GREGORIAN
PRODID:rbb-CMS DAY
BEGIN:VEVENT
LOCATION:Film von Nadine Brecht und Kathrin Zauter
CLASS:PUBLIC
URL:http://www.rbb-online.de/content/rbb/rbb/fernsehen/programm/27_04_2014/12009745631.html
DTEND:20140427T053500
DTSTART:20140427T050500
UID:/content/rbb/rbb/fernsehen/programm/27_04_2014/12009745631
DTSTAMP:20140407T235859
DESCRIPTION:24 Stunden an sieben Tagen arbeiten Ärzte und Pfleger im Unfallkrankenhaus Berlin und helfen Verletzten. Die rbb Reporter der Abendschau haben Patienten, Ärzte und Pfleger eine Woche lang begleitet und erzählen von Schicksalsschlägen, Enttäuschungen aber auch von Hoffnungen und kleinen und großen Wundern.
SUMMARY:Die rbb Reporter - 7 Tage Unfallkrankenhaus Berlin 27.04.2014 05:05
END:VEVENT
END:VCALENDAR
