BEGIN:VCALENDAR
X-WR-TIMEZONE:Europe/Berlin
X-WR-CALNAME:rbb-Kalender
VERSION:2.0
METHOD:PUBLISH
CALSCALE:GREGORIAN
PRODID:rbb-CMS DAY
BEGIN:VEVENT
LOCATION:Pechvogel
CLASS:PUBLIC
URL:http://www.rbb-online.de/content/rbb/rbb/fernsehen/programm/27_04_2014/12009745711.html
DTEND:20140427T080000
DTSTART:20140427T075000
UID:/content/rbb/rbb/fernsehen/programm/27_04_2014/12009745711
DTSTAMP:20140408T060743
DESCRIPTION:
SUMMARY:Morgen OLI 27.04.2014 07:50
END:VEVENT
END:VCALENDAR
