BEGIN:VCALENDAR
X-WR-TIMEZONE:Europe/Berlin
X-WR-CALNAME:rbb-Kalender
VERSION:2.0
METHOD:PUBLISH
CALSCALE:GREGORIAN
PRODID:rbb-CMS DAY
BEGIN:VEVENT
CLASS:PUBLIC
URL:http://www.rbb-online.de/content/rbb/rbb/fernsehen/programm/27_04_2014/12009745752.html
DTEND:20140427T090000
DTSTART:20140427T083000
UID:/content/rbb/rbb/fernsehen/programm/27_04_2014/12009745752
DTSTAMP:20140408T060815
DESCRIPTION:Seit 50 Jahren gibt es von uns das Wichtigste aus Politik, Kultur, Wirtschaft und Sport, die Szene-Trends und die Kiezgeschichten. Kurz: "Wir sind ein Berliner" - Die ABENDSCHAU hat den Berlin-Blick: Nah an den Menschen und ihren Geschichten, rau aber herzlich. Immer um 19:30 Uhr. Egal wann etwas passiert, die ABENDSCHAU ist dabei.
SUMMARY:Abendschau 27.04.2014 08:30
END:VEVENT
END:VCALENDAR
