BEGIN:VCALENDAR
X-WR-TIMEZONE:Europe/Berlin
X-WR-CALNAME:rbb-Kalender
VERSION:2.0
METHOD:PUBLISH
CALSCALE:GREGORIAN
PRODID:rbb-CMS DAY
BEGIN:VEVENT
LOCATION:Zoogeschichten aus dem Loro Park auf Teneriffa
CLASS:PUBLIC
URL:http://www.rbb-online.de/content/rbb/rbb/fernsehen/programm/27_04_2014/12009745834.html
DTEND:20140427T123000
DTSTART:20140427T114000
UID:/content/rbb/rbb/fernsehen/programm/27_04_2014/12009745834
DTSTAMP:20140408T060518
DESCRIPTION:Galápagos-Schildkröte Tom ist ein stürmischer Liebhaber. Von Tomasa, dem Schildkröten-Weibchen, kann er gar nicht genug bekommen. Doch weil Tom zu ungestüm und auch noch zu schwer ist, hat er seiner Geliebten einige Verletzungen am Panzer zugefügt. Deswegen erholt sich Tomasa in einer Außenstation des Parks.
SUMMARY:Papageien, Palmen & Co. 27.04.2014 11:40
END:VEVENT
END:VCALENDAR
