BEGIN:VCALENDAR
X-WR-TIMEZONE:Europe/Berlin
X-WR-CALNAME:rbb-Kalender
VERSION:2.0
METHOD:PUBLISH
CALSCALE:GREGORIAN
PRODID:rbb-CMS DAY
BEGIN:VEVENT
LOCATION:Johannes Paul wird heilig gesprochen
CLASS:PUBLIC
URL:http://www.rbb-online.de/content/rbb/rbb/fernsehen/programm/27_04_2014/12009745847.html
DTEND:20140427T130000
DTSTART:20140427T123000
UID:/content/rbb/rbb/fernsehen/programm/27_04_2014/12009745847
DTSTAMP:20140408T060755
DESCRIPTION:Die erste seiner Pilgerreisen nach Polen war die wichtigste, kurz nach seiner Wahl zum Papst, im Juni 1979. Hier erlebte Johannes Paul II. einen enthusiastischen Empfang. Mit seinen Reden hat er in seinem damals noch kommunistischen Heimatland die Herzen vieler Menschen geöffnet und den Weg zur Solidarnosc-Bewegung bereitet. Eine rückblickende Reportage von Krzysztof Czajka.
SUMMARY:Der Papst, die Polen und die Freiheit 27.04.2014 12:30
END:VEVENT
END:VCALENDAR
