BEGIN:VCALENDAR
X-WR-TIMEZONE:Europe/Berlin
X-WR-CALNAME:rbb-Kalender
VERSION:2.0
METHOD:PUBLISH
CALSCALE:GREGORIAN
PRODID:rbb-CMS DAY
BEGIN:VEVENT
LOCATION:Ärzte, Trainer, Wunderheiler
CLASS:PUBLIC
URL:http://www.rbb-online.de/content/rbb/rbb/fernsehen/programm/27_04_2014/12009745856.html
DTEND:20140427T134500
DTSTART:20140427T130000
UID:/content/rbb/rbb/fernsehen/programm/27_04_2014/12009745856
DTSTAMP:20140408T060808
DESCRIPTION:Anne Krüger, Joe Bodemann und Dr. Jörg Heide kümmern sich um alles, was vier Beine hat, ob Hunde, Bullen oder Raubkatzen. Von der Aufzucht, über das Training bis zur ärztlichen oder naturheilkundlichen Versorgung von Tieren - die Drei leben für ihre abwechslungsreichen Berufe, die sie immer wieder mit Überraschungen und ungewöhnlichen Fällen konfrontieren.
SUMMARY:Ein Team für alle Ställe 27.04.2014 13:00
END:VEVENT
END:VCALENDAR
