BEGIN:VCALENDAR
X-WR-TIMEZONE:Europe/Berlin
X-WR-CALNAME:rbb-Kalender
VERSION:2.0
METHOD:PUBLISH
CALSCALE:GREGORIAN
PRODID:rbb-CMS DAY
BEGIN:VEVENT
LOCATION:Spielfilm Deutschland 2003
CLASS:PUBLIC
URL:http://www.rbb-online.de/content/rbb/rbb/fernsehen/programm/27_04_2014/12009745884.html
DTEND:20140427T170000
DTSTART:20140427T153000
UID:/content/rbb/rbb/fernsehen/programm/27_04_2014/12009745884
DTSTAMP:20140408T060721
DESCRIPTION:Zwei lebenslustige Witwen auf Kur, die Verehrer lassen nicht lange auf sich warten - der sächsische Kurort Bad Elster lässt vier Herzen höher schlagen.
SUMMARY:Der zweite Frühling 27.04.2014 15:30
END:VEVENT
END:VCALENDAR
