BEGIN:VCALENDAR
X-WR-TIMEZONE:Europe/Berlin
X-WR-CALNAME:rbb-Kalender
VERSION:2.0
METHOD:PUBLISH
CALSCALE:GREGORIAN
PRODID:rbb-CMS DAY
BEGIN:VEVENT
LOCATION:Der rbb Kriminalreport mit Uwe Madel
CLASS:PUBLIC
URL:http://www.rbb-online.de/content/rbb/rbb/fernsehen/programm/27_04_2014/12009746013.html
DTEND:20140427T192500
DTSTART:20140427T190000
UID:/content/rbb/rbb/fernsehen/programm/27_04_2014/12009746013
DTSTAMP:20140408T060734
DESCRIPTION:T-O-P  ist das rbb Kriminalmagazin für Berlin und Brandenburg. Moderator Uwe Madel präsentiert aktuelle Fahndungsersuchen der Landeskriminalämter der Region.
SUMMARY:Täter - Opfer - Polizei 27.04.2014 19:00
END:VEVENT
END:VCALENDAR
