BEGIN:VCALENDAR
X-WR-TIMEZONE:Europe/Berlin
X-WR-CALNAME:rbb-Kalender
VERSION:2.0
METHOD:PUBLISH
CALSCALE:GREGORIAN
PRODID:rbb-CMS DAY
BEGIN:VEVENT
CLASS:PUBLIC
URL:http://www.rbb-online.de/content/rbb/rbb/fernsehen/programm/27_04_2014/12009746077.html
DTEND:20140427T201500
DTSTART:20140427T200000
UID:/content/rbb/rbb/fernsehen/programm/27_04_2014/12009746077
DTSTAMP:20140408T060611
DESCRIPTION:Die Nachrichten der ARD
SUMMARY:Tagesschau 27.04.2014 20:00
END:VEVENT
END:VCALENDAR
