BEGIN:VCALENDAR
X-WR-TIMEZONE:Europe/Berlin
X-WR-CALNAME:rbb-Kalender
VERSION:2.0
METHOD:PUBLISH
CALSCALE:GREGORIAN
PRODID:rbb-CMS DAY
BEGIN:VEVENT
LOCATION:Aktuelles vom Sport in Berlin und Brandenburg
CLASS:PUBLIC
URL:http://www.rbb-online.de/content/rbb/rbb/fernsehen/programm/27_04_2014/12009746133.html
DTEND:20140427T231500
DTSTART:20140427T223500
UID:/content/rbb/rbb/fernsehen/programm/27_04_2014/12009746133
DTSTAMP:20140408T060835
DESCRIPTION:Das Sportmagazin der Region. In informativer und unterhaltsamer Form werden nicht nur die Sportereignisse vom Wochenende gezeigt und analysiert, sondern auch der Breiten- und Freizeitsport behandelt.
SUMMARY:rbb Sportplatz 27.04.2014 22:35
END:VEVENT
END:VCALENDAR
