BEGIN:VCALENDAR
X-WR-TIMEZONE:Europe/Berlin
X-WR-CALNAME:rbb-Kalender
VERSION:2.0
METHOD:PUBLISH
CALSCALE:GREGORIAN
PRODID:rbb-CMS DAY
BEGIN:VEVENT
LOCATION:mit Frank Plasberg
CLASS:PUBLIC
URL:http://www.rbb-online.de/content/rbb/rbb/fernsehen/programm/27_04_2014/12033120323.html
DTEND:20140427T220000
DTSTART:20140427T201500
UID:/content/rbb/rbb/fernsehen/programm/27_04_2014/12033120323
DTSTAMP:20140408T060735
DESCRIPTION:Frank Plasberg
SUMMARY:Das Quiz der Deutschen 27.04.2014 20:15
END:VEVENT
END:VCALENDAR
