BEGIN:VCALENDAR
X-WR-TIMEZONE:Europe/Berlin
X-WR-CALNAME:rbb-Kalender
VERSION:2.0
METHOD:PUBLISH
CALSCALE:GREGORIAN
PRODID:rbb-CMS DAY
BEGIN:VEVENT
LOCATION:Die Welt von morgen
CLASS:PUBLIC
URL:http://www.rbb-online.de/content/rbb/rbb/fernsehen/programm/28_03_2014/11833040344.html
DTEND:20140328T073000
DTSTART:20140328T070000
UID:/content/rbb/rbb/fernsehen/programm/28_03_2014/11833040344
DTSTAMP:20140404T192844
DESCRIPTION:Themen:\n* Aktuell: Erdrutsch in den USA \n* Kleine Fächer in Mainz \n* Kleine Fächer Bonn und Düsseldorf \n* aha: Wie dreht sich die Erde und warum? \n* Verliebt in einen Computer \n\nModeration: Kristina zur Mühlen
SUMMARY:nano 28.03.2014 07:00
END:VEVENT
END:VCALENDAR
