BEGIN:VCALENDAR
X-WR-TIMEZONE:Europe/Berlin
X-WR-CALNAME:rbb-Kalender
VERSION:2.0
METHOD:PUBLISH
CALSCALE:GREGORIAN
PRODID:rbb-CMS DAY
BEGIN:VEVENT
LOCATION:Moderation: Tatjana Jury
CLASS:PUBLIC
URL:http://www.rbb-online.de/content/rbb/rbb/fernsehen/programm/28_03_2014/11833040369.html
DTEND:20140328T083000
DTSTART:20140328T080000
UID:/content/rbb/rbb/fernsehen/programm/28_03_2014/11833040369
DTSTAMP:20140404T192505
DESCRIPTION:Themen u.a.:\n* Zukunftstag - Schüler erhalten Einblicke in die Berufswelt\n* Dokumentarfilm "Deutschboden" startet bundesweit in den Kinos\n* Berlin-Tipps: Militär-Blasmusik oder Theater-Improvisationsfestival
SUMMARY:Brandenburg aktuell 28.03.2014 08:00
END:VEVENT
END:VCALENDAR
