BEGIN:VCALENDAR
X-WR-TIMEZONE:Europe/Berlin
X-WR-CALNAME:rbb-Kalender
VERSION:2.0
METHOD:PUBLISH
CALSCALE:GREGORIAN
PRODID:rbb-CMS DAY
BEGIN:VEVENT
LOCATION:zuhause in berlin & brandenburg
CLASS:PUBLIC
URL:http://www.rbb-online.de/content/rbb/rbb/fernsehen/programm/28_03_2014/11833040407.html
DTEND:20140328T095500
DTSTART:20140328T090000
UID:/content/rbb/rbb/fernsehen/programm/28_03_2014/11833040407
DTSTAMP:20140404T192737
DESCRIPTION:Themen:\n* Verleihung des größten Musikpreises - Live vom lila Teppich zur ECHO-Gala\n* Unaufgeklärte Morde neu aufgerollt - Die Arbeit der Ermittler des LKA 213\n* Radeln ohne Qualen - Tipps zum Start in die Fahrradsaison
SUMMARY:zibb 28.03.2014 09:00
END:VEVENT
END:VCALENDAR
