BEGIN:VCALENDAR
X-WR-TIMEZONE:Europe/Berlin
X-WR-CALNAME:rbb-Kalender
VERSION:2.0
METHOD:PUBLISH
CALSCALE:GREGORIAN
PRODID:rbb-CMS DAY
BEGIN:VEVENT
LOCATION:Fernsehserie Deutschland 2014
CLASS:PUBLIC
URL:http://www.rbb-online.de/content/rbb/rbb/fernsehen/programm/28_03_2014/11833040459.html
DTEND:20140328T121500
DTSTART:20140328T112500
UID:/content/rbb/rbb/fernsehen/programm/28_03_2014/11833040459
DTSTAMP:20140404T192648
DESCRIPTION:Pauline ist schockiert, als Daniel ihr gesteht, dass er in der Vergangenheit eine Beziehung mit Chris Brenner gehabt hat. Chris' Angst, als homosexuell geoutet zu werden, wiegt nach Daniels Geständnis dennoch schwerer als die Hoffnung, Daniel zurückzugewinnen. So spielt Chris Tina weiterhin den Verliebten vor und gibt vor, bis vor kurzem nichts von Daniels Bisexualität gewusst zu haben. Er erzählt Tina auch, dass Daniel ihn immer noch liebe. Als Tina Daniel daraufhin ermahnt, gegenüber Pauline ehrlich zu sein, dämmert Daniel, dass Chris weiterhin alles dafür tut, Pauline und ihn auseinanderzubringen.
SUMMARY:Sturm der Liebe (1952) 28.03.2014 11:25
END:VEVENT
END:VCALENDAR
