BEGIN:VCALENDAR
X-WR-TIMEZONE:Europe/Berlin
X-WR-CALNAME:rbb-Kalender
VERSION:2.0
METHOD:PUBLISH
CALSCALE:GREGORIAN
PRODID:rbb-CMS DAY
BEGIN:VEVENT
LOCATION:Ganze Kerle
CLASS:PUBLIC
URL:http://www.rbb-online.de/content/rbb/rbb/fernsehen/programm/28_03_2014/11833040477.html
DTEND:20140328T130000
DTSTART:20140328T121500
UID:/content/rbb/rbb/fernsehen/programm/28_03_2014/11833040477
DTSTAMP:20140404T192825
DESCRIPTION:Georg Schlichter, Betreuer in einem Jugendzentrum, und der Schüler Enrico werden nach einer Rangelei mit anschließendem Treppensturz in der Sachsenklinik behandelt. Wegen einer Gehirnerschütterung muss Enrico, der von Freundin Cindy begleitet wird, vorerst in der Klinik bleiben. Georg bietet an, das Vorgefallene zu vergessen, wenn Enrico ab sofort, wie seine Freundin, regelmäßig in der Schule erscheint. Dem Jugendlichen ist der tägliche Besuch im Fitnessstudio jedoch wichtiger als ein guter Abschluss. Als er dem Betreuer mit einer Anzeige wegen Körperverletzung droht, geht Cindy auf Distanz.
SUMMARY:In aller Freundschaft (361) 28.03.2014 12:15
END:VEVENT
END:VCALENDAR
