BEGIN:VCALENDAR
X-WR-TIMEZONE:Europe/Berlin
X-WR-CALNAME:rbb-Kalender
VERSION:2.0
METHOD:PUBLISH
CALSCALE:GREGORIAN
PRODID:rbb-CMS DAY
BEGIN:VEVENT
LOCATION:Abenteuer Afrika
CLASS:PUBLIC
URL:http://www.rbb-online.de/content/rbb/rbb/fernsehen/programm/28_03_2014/11833040653.html
DTEND:20140328T175500
DTSTART:20140328T170500
UID:/content/rbb/rbb/fernsehen/programm/28_03_2014/11833040653
DTSTAMP:20140404T192646
DESCRIPTION:Jo van der Merwe und Volontärin Davina besuchen eine Nashornfarm in Südafrika. Sie wollen vier Tiere abholen, denn die Dickhäuter werden in freier Wildbahn von Wilderern bedroht. Auf der Farm Naua Naua sollen sie ein neues, sicheres Zuhause bekommen. Auf Harnas ist Volontärin Mara die Pflegemama von Fohlen Kolboy. Keine leichte Aufgabe. Das Fohlen ist ein Dickkopf und macht so gut wie nie, was Mara will. Mara versucht deshalb, Kolboy mit Milch zu locken.
SUMMARY:Das Waisenhaus für wilde Tiere (52) 28.03.2014 17:05
END:VEVENT
END:VCALENDAR
