BEGIN:VCALENDAR
X-WR-TIMEZONE:Europe/Berlin
X-WR-CALNAME:rbb-Kalender
VERSION:2.0
METHOD:PUBLISH
CALSCALE:GREGORIAN
PRODID:rbb-CMS DAY
BEGIN:VEVENT
LOCATION:Film von Ole Wessels
CLASS:PUBLIC
URL:http://www.rbb-online.de/content/rbb/rbb/fernsehen/programm/28_04_2014/12014245974.html
DTEND:20140428T063000
DTSTART:20140428T060000
UID:/content/rbb/rbb/fernsehen/programm/28_04_2014/12014245974
DTSTAMP:20140408T113851
DESCRIPTION:Gregor Andréewitch ist Hoteldirektor. Er leitet das neue Waldorf Astoria am Bahnhof Zoo. Eine Anlaufstelle für gut situierte Berlinbesucher. Dieter Puhl leitet einen Steinwurf entfernt die Bahnhofsmission am Zoo - Anlaufpunkt für Obdachlose, die hier etwas zu Essen und Zuspruch bekommen. Als Doppelportrait angelegt, stellt der Film den Alltag der beiden ambitionierten Gastgeber gegenüber.
SUMMARY:Hummer oder Wurstbrot: Zwei Gastgeber am Bahnhof Zoo 28.04.2014 06:00
END:VEVENT
END:VCALENDAR
