BEGIN:VCALENDAR
X-WR-TIMEZONE:Europe/Berlin
X-WR-CALNAME:rbb-Kalender
VERSION:2.0
METHOD:PUBLISH
CALSCALE:GREGORIAN
PRODID:rbb-CMS DAY
BEGIN:VEVENT
LOCATION:Hallstatt
CLASS:PUBLIC
URL:http://www.rbb-online.de/content/rbb/rbb/fernsehen/programm/28_04_2014/12014246092.html
DTEND:20140428T095500
DTSTART:20140428T094000
UID:/content/rbb/rbb/fernsehen/programm/28_04_2014/12014246092
DTSTAMP:20140408T113933
DESCRIPTION:Dieser Film erzählt mit berückend schönen Bildern die Geschichte einer abgeschiedenen Region im österreichischen Salzkammergut. Hier in Hallstatt befindet sich das älteste Salzbergwerk der Welt. Schon zu prähistorischen Zeiten bauten Menschen in einer hoch entwickelten Kultur das weiße Gold ab. Die Zeugnisse ihrer Existenz hat das Salz konserviert.
SUMMARY:Schätze der Welt 28.04.2014 09:40
END:VEVENT
END:VCALENDAR
