BEGIN:VCALENDAR
X-WR-TIMEZONE:Europe/Berlin
X-WR-CALNAME:rbb-Kalender
VERSION:2.0
METHOD:PUBLISH
CALSCALE:GREGORIAN
PRODID:rbb-CMS DAY
BEGIN:VEVENT
LOCATION:Falsche Entscheidung?
CLASS:PUBLIC
URL:http://www.rbb-online.de/content/rbb/rbb/fernsehen/programm/28_04_2014/12014246153.html
DTEND:20140428T130000
DTSTART:20140428T121500
UID:/content/rbb/rbb/fernsehen/programm/28_04_2014/12014246153
DTSTAMP:20140408T113909
DESCRIPTION:Die Reisejournalistin Caroline Kühn kommt mit einer Infektion aus Indien zurück. Ihr Mann, Professor Dr. Marc Kühn, bringt sie vorsorglich in die Notaufnahme der Sachsenklinik. Dort begegnet er nicht nur seinem alten Studienkumpel Roland Heilmann sondern erfährt auch bei einer ersten Untersuchung Carolines, dass sie schwanger ist. Der Vater ist Carolines neuer Partner Tom Buck.
SUMMARY:In aller Freundschaft 28.04.2014 12:15
END:VEVENT
END:VCALENDAR
