BEGIN:VCALENDAR
X-WR-TIMEZONE:Europe/Berlin
X-WR-CALNAME:rbb-Kalender
VERSION:2.0
METHOD:PUBLISH
CALSCALE:GREGORIAN
PRODID:rbb-CMS DAY
BEGIN:VEVENT
LOCATION:Über fast vergessene grüne Genüsse
CLASS:PUBLIC
URL:http://www.rbb-online.de/content/rbb/rbb/fernsehen/programm/28_04_2014/12014246247.html
DTEND:20140428T160000
DTSTART:20140428T151500
UID:/content/rbb/rbb/fernsehen/programm/28_04_2014/12014246247
DTSTAMP:20140408T113915
DESCRIPTION:Die Vielfalt der vergessenen Garten-Genüsse ist erstaunlich. Essbare und wohlschmeckende Pflanzen direkt aus der Natur, aber auch uralte Zuchtsorten und lokale Besonderheiten kommen in der Sendung auf den Tisch.
SUMMARY:Kräuterfrauen und junges Gemüse 28.04.2014 15:15
END:VEVENT
END:VCALENDAR
