BEGIN:VCALENDAR
X-WR-TIMEZONE:Europe/Berlin
X-WR-CALNAME:rbb-Kalender
VERSION:2.0
METHOD:PUBLISH
CALSCALE:GREGORIAN
PRODID:rbb-CMS DAY
BEGIN:VEVENT
LOCATION:Moderation: Tatjana Jury
CLASS:PUBLIC
URL:http://www.rbb-online.de/content/rbb/rbb/fernsehen/programm/29_03_2014/11839860218.html
DTEND:20140329T032500
DTSTART:20140329T025500
UID:/content/rbb/rbb/fernsehen/programm/29_03_2014/11839860218
DTSTAMP:20140404T192819
DESCRIPTION:Themen u.a.:\n* Rückkehr des Tante-Emma-Ladens in Seddin\n* Bernaus Bürgermeister vor der Abwahl?\n* Land und lecker: "Mutterwelt" in Dahlewitz
SUMMARY:Brandenburg aktuell 29.03.2014 02:55
END:VEVENT
END:VCALENDAR
