BEGIN:VCALENDAR
X-WR-TIMEZONE:Europe/Berlin
X-WR-CALNAME:rbb-Kalender
VERSION:2.0
METHOD:PUBLISH
CALSCALE:GREGORIAN
PRODID:rbb-CMS DAY
BEGIN:VEVENT
LOCATION:Geschichte(n) aus der Mark
CLASS:PUBLIC
URL:http://www.rbb-online.de/content/rbb/rbb/fernsehen/programm/29_03_2014/11839860303.html
DTEND:20140329T054000
DTSTART:20140329T051500
UID:/content/rbb/rbb/fernsehen/programm/29_03_2014/11839860303
DTSTAMP:20140404T192816
DESCRIPTION:Themen:\n* Hermann Weingärtner - Olympiasieger 1896\n* Sturz eines Radsportlers\n* Mehr Platz für Mielkes Top-Verein \n* Juryturm im Wasserwald\n\nModeration: Gerald Meyer
SUMMARY:Theodor 29.03.2014 05:15
END:VEVENT
END:VCALENDAR
