BEGIN:VCALENDAR
X-WR-TIMEZONE:Europe/Berlin
X-WR-CALNAME:rbb-Kalender
VERSION:2.0
METHOD:PUBLISH
CALSCALE:GREGORIAN
PRODID:rbb-CMS DAY
BEGIN:VEVENT
LOCATION:Versunkene Spuren
CLASS:PUBLIC
URL:http://www.rbb-online.de/content/rbb/rbb/fernsehen/programm/29_03_2014/11839860344.html
DTEND:20140329T074500
DTSTART:20140329T072000
UID:/content/rbb/rbb/fernsehen/programm/29_03_2014/11839860344
DTSTAMP:20140404T180715
DESCRIPTION:Als Christian merkt, dass Thorri seine Liebe erwidert, ist er überglücklich. Joana hingegen ist sauer. Und sie hat Christian in der Hand. Vor dem "Rat der Generationen" hat Christian sie als "seine" Schwester ausgegeben. So will er Thorri vor dem Zugriff Mortons retten. Nun rächt sich die Notlüge. Joana droht Christian auffliegen zu lassen, wenn er nicht endlich einen Weg in die Gegenwart findet.
SUMMARY:Magna Aura - Die versunkene Stadt (5/13) 29.03.2014 07:20
END:VEVENT
END:VCALENDAR
