BEGIN:VCALENDAR
X-WR-TIMEZONE:Europe/Berlin
X-WR-CALNAME:rbb-Kalender
VERSION:2.0
METHOD:PUBLISH
CALSCALE:GREGORIAN
PRODID:rbb-CMS DAY
BEGIN:VEVENT
LOCATION:Moderation: Cathrin Böhme
CLASS:PUBLIC
URL:http://www.rbb-online.de/content/rbb/rbb/fernsehen/programm/29_03_2014/11839860397.html
DTEND:20140329T090000
DTSTART:20140329T083000
UID:/content/rbb/rbb/fernsehen/programm/29_03_2014/11839860397
DTSTAMP:20140404T180942
DESCRIPTION:Themen u.a.:\n* Sozial und verträglich wohnen: Pankow stellt Kieze "unter Schutz"\n* Ausflugstipp: Wanderritt zum Gut Zernikow\n* Serie "Iss was!": "Hafenküche" in der Rummelsburger Bucht
SUMMARY:Abendschau 29.03.2014 08:30
END:VEVENT
END:VCALENDAR
