BEGIN:VCALENDAR
X-WR-TIMEZONE:Europe/Berlin
X-WR-CALNAME:rbb-Kalender
VERSION:2.0
METHOD:PUBLISH
CALSCALE:GREGORIAN
PRODID:rbb-CMS DAY
BEGIN:VEVENT
LOCATION:Nuomin He, der fliegende mongolische Fotograf
CLASS:PUBLIC
URL:http://www.rbb-online.de/content/rbb/rbb/fernsehen/programm/29_03_2014/11839860529.html
DTEND:20140329T144500
DTSTART:20140329T140000
UID:/content/rbb/rbb/fernsehen/programm/29_03_2014/11839860529
DTSTAMP:20140404T180843
DESCRIPTION:Nuomin He ist fliegender Landschaftsfotograf. Jahrelang war er erfolgreicher Unternehmer. Bis er sich eines Tages fragte: "Was will ich wirklich?" Seine Antwort lautete: fliegen und fotografieren. Er begann, seinen Traum zu leben. Der 52-Jährige ist ethnischer Mongole und weltweit der einzige professionelle Luftbild-Fotograf, der für seine Fotos selbst am Steuerknüppel sitzt. Jeden Sommer fliegt er über die unendlichen Weiten der Inneren Mongolei in Nordchina. Seine beeindruckenden Fotos zeigen mäandernde Flüsse, hügliges Grasland und grün schillernde Ebenen. Für seine Aufnahmen fliegt er gewagte Manöver in tückischen Winden.
SUMMARY:Im Steppenwind 29.03.2014 14:00
END:VEVENT
END:VCALENDAR
