BEGIN:VCALENDAR
X-WR-TIMEZONE:Europe/Berlin
X-WR-CALNAME:rbb-Kalender
VERSION:2.0
METHOD:PUBLISH
CALSCALE:GREGORIAN
PRODID:rbb-CMS DAY
BEGIN:VEVENT
LOCATION:Film von Angela Graas
CLASS:PUBLIC
URL:http://www.rbb-online.de/content/rbb/rbb/fernsehen/programm/29_03_2014/11839860539.html
DTEND:20140329T153000
DTSTART:20140329T144500
UID:/content/rbb/rbb/fernsehen/programm/29_03_2014/11839860539
DTSTAMP:20140404T180621
DESCRIPTION:Sie haben wenig Freunde, die Baboons, die Paviane Südafrikas. Weil ihr Lebensraum immer knapper wird, kommen die Affen, die den Menschen in vielem so ähnlich sind, immer öfter in Städte und Dörfer. Die Banden sind gefürchtet, denn sie haben es auf alles abgesehen, was nicht niet- und nagelfest ist. Sie klauen Schulkindern die Pausenbrote, demolieren Autos von Touristen, verwüsten Vorgärten. Sie werden absichtlich überfahren, vergiftet, erschossen. Zurück bleiben oft wenige Tage alte Pavianwaisen, die ohne die enge Beziehung zu ihrer Mutter nicht überleben können.
SUMMARY:Affentheater - Paviane in Südafrika 29.03.2014 14:45
END:VEVENT
END:VCALENDAR
