BEGIN:VCALENDAR
X-WR-TIMEZONE:Europe/Berlin
X-WR-CALNAME:rbb-Kalender
VERSION:2.0
METHOD:PUBLISH
CALSCALE:GREGORIAN
PRODID:rbb-CMS DAY
BEGIN:VEVENT
LOCATION:Die Nachrichten der ARD
CLASS:PUBLIC
URL:http://www.rbb-online.de/content/rbb/rbb/fernsehen/programm/29_03_2014/11839860754.html
DTEND:20140329T201500
DTSTART:20140329T200000
UID:/content/rbb/rbb/fernsehen/programm/29_03_2014/11839860754
DTSTAMP:20140404T180704
DESCRIPTION:* Präsidentschaftswahl Ukraine: Klitschko kandidiert nicht\n* Stichwahl Slowakei: Bürger wählen neuen Staatspräsidenten\n* Wirtschaftsgespräche: Chinas Staats- und Parteichef Xi Jinping besucht NRW\n* Fußball-Bundesliga: Der 28. Spieltag
SUMMARY:Tagesschau 29.03.2014 20:00
END:VEVENT
END:VCALENDAR
