BEGIN:VCALENDAR
X-WR-TIMEZONE:Europe/Berlin
X-WR-CALNAME:rbb-Kalender
VERSION:2.0
METHOD:PUBLISH
CALSCALE:GREGORIAN
PRODID:rbb-CMS DAY
BEGIN:VEVENT
LOCATION:mit Sport
CLASS:PUBLIC
URL:http://www.rbb-online.de/content/rbb/rbb/fernsehen/programm/29_03_2014/11839860821.html
DTEND:20140329T222000
DTSTART:20140329T215000
UID:/content/rbb/rbb/fernsehen/programm/29_03_2014/11839860821
DTSTAMP:20140404T180744
DESCRIPTION:Wir informieren Sie täglich mehrmals mit Nachrichtenausgaben über wichtige aktuelle Ereignisse der Region. Immer mittwochs gibt es empfehlenswerte Filmpremieren, donnerstags die wichtigsten Veranstaltungen des Wochenendes in Berlin und Brandenburg. 365 Tage im Jahr - das Wichtigste vom Tage aus Berlin und Brandenburg.
SUMMARY:rbb AKTUELL 29.03.2014 21:50
END:VEVENT
END:VCALENDAR
