BEGIN:VCALENDAR
X-WR-TIMEZONE:Europe/Berlin
X-WR-CALNAME:rbb-Kalender
VERSION:2.0
METHOD:PUBLISH
CALSCALE:GREGORIAN
PRODID:rbb-CMS DAY
BEGIN:VEVENT
LOCATION:Spielfilm USA 1950
CLASS:PUBLIC
URL:http://www.rbb-online.de/content/rbb/rbb/fernsehen/programm/29_03_2014/11839860854.html
DTEND:20140330T012000
DTSTART:20140329T234000
UID:/content/rbb/rbb/fernsehen/programm/29_03_2014/11839860854
DTSTAMP:20140404T180920
DESCRIPTION:Kavallerieoffizier Kirby Yorke wurde von seiner Frau Kathleen verlassen, weil er im Bürgerkrieg ihre Farm niederbrennen musste. 15 Jahre später kommt es zum Wiedersehen am Rio Grande, wo Kirby eine Kavallerie-Einheit kommandiert. Kathleen will ihren gemeinsamen Sohn Jeff nach Hause holen, der Rekrut in der Einheit seines Vaters geworden ist. Der Junge muss sich jedoch seinem alten Herrn beweisen, der aus dem Grünschnabel einen Mann machen will. Ein Angriff der Apachen überschattet die familiäre Auseinandersetzung.
SUMMARY:Rio Grande 29.03.2014 23:40
END:VEVENT
END:VCALENDAR
