BEGIN:VCALENDAR
X-WR-TIMEZONE:Europe/Berlin
X-WR-CALNAME:rbb-Kalender
VERSION:2.0
METHOD:PUBLISH
CALSCALE:GREGORIAN
PRODID:rbb-CMS DAY
BEGIN:VEVENT
CLASS:PUBLIC
URL:http://www.rbb-online.de/content/rbb/rbb/fernsehen/programm/29_03_2014/querbeet.html
DTEND:20140329T113000
DTSTART:20140329T110000
UID:/content/rbb/rbb/fernsehen/programm/29_03_2014/querbeet
DTSTAMP:20140404T180853
DESCRIPTION:Die Themen dieser Sendung: * Mandeln im Garten * Brühwürfel selbst herstellen * Ingwer: Anbau und Pflege * Berggarten Hannover *\n
SUMMARY:Querbeet 
END:VEVENT
END:VCALENDAR
