BEGIN:VCALENDAR
X-WR-TIMEZONE:Europe/Berlin
X-WR-CALNAME:rbb-Kalender
VERSION:2.0
METHOD:PUBLISH
CALSCALE:GREGORIAN
PRODID:rbb-CMS DAY
BEGIN:VEVENT
LOCATION:Kunstdiebstahl in New York
CLASS:PUBLIC
URL:http://www.rbb-online.de/content/rbb/rbb/fernsehen/programm/29_04_2014/12017256798.html
DTEND:20140429T010000
DTSTART:20140429T001500
UID:/content/rbb/rbb/fernsehen/programm/29_04_2014/12017256798
DTSTAMP:20140408T114111
DESCRIPTION:Als ein gestohlener Degas unter dem Auktionshammer landet, wird ein zeitgenössischer Maler widerwillig zum Stillleben.
SUMMARY:Mord ist ihr Hobby 29.04.2014 00:15
END:VEVENT
END:VCALENDAR
