BEGIN:VCALENDAR
X-WR-TIMEZONE:Europe/Berlin
X-WR-CALNAME:rbb-Kalender
VERSION:2.0
METHOD:PUBLISH
CALSCALE:GREGORIAN
PRODID:rbb-CMS DAY
BEGIN:VEVENT
LOCATION:Steif gefroren
CLASS:PUBLIC
URL:http://www.rbb-online.de/content/rbb/rbb/fernsehen/programm/29_04_2014/12017256819.html
DTEND:20140429T014500
DTSTART:20140429T010000
UID:/content/rbb/rbb/fernsehen/programm/29_04_2014/12017256819
DTSTAMP:20140408T114152
DESCRIPTION:Der unsympathische Mitbegründer einer Eiscremefirma aus Wisconsin bekommt seinen verdienten Nachtisch, als er, steifer als ein Eis am Stiel, im Kühlhaus der Firma entdeckt wird.
SUMMARY:Mord ist ihr Hobby 29.04.2014 01:00
END:VEVENT
END:VCALENDAR
