BEGIN:VCALENDAR
X-WR-TIMEZONE:Europe/Berlin
X-WR-CALNAME:rbb-Kalender
VERSION:2.0
METHOD:PUBLISH
CALSCALE:GREGORIAN
PRODID:rbb-CMS DAY
BEGIN:VEVENT
LOCATION:Mit Christine Westermann und Götz Alsmann - Gast: Nelson Müller
CLASS:PUBLIC
URL:http://www.rbb-online.de/content/rbb/rbb/fernsehen/programm/30_03_2014/11858716451.html
DTEND:20140330T032000
DTSTART:20140330T012000
UID:/content/rbb/rbb/fernsehen/programm/30_03_2014/11858716451
DTSTAMP:20140404T180850
DESCRIPTION:Er gehört zu den prominenten deutschen Spitzenköchen, die durch verschiedene TV-Shows und kulinarische Ratgebersendungen auch beim breiten Fernsehpublikum populär wurden: Nelson Müller. Mal schwingt er selbst die Kochlöffel, mal testet er für das WDR Fernsehen die Currywurst-Imbisse im Ruhrrevier, mal schaut er bei der ZDF-"Küchenschlacht" in die Töpfe und Pfannen ambitionierter Hobbyköche oder steht in "Die große Ernährungsshow" im Ersten Ranga Yogeshwar und Barbara Schöneberger als Experte zur Seite.
SUMMARY:Zimmer frei! - Prominente suchen ein Zuhause 30.03.2014 01:20
END:VEVENT
END:VCALENDAR
