BEGIN:VCALENDAR
X-WR-TIMEZONE:Europe/Berlin
X-WR-CALNAME:rbb-Kalender
VERSION:2.0
METHOD:PUBLISH
CALSCALE:GREGORIAN
PRODID:rbb-CMS DAY
BEGIN:VEVENT
CLASS:PUBLIC
URL:http://www.rbb-online.de/content/rbb/rbb/fernsehen/programm/30_03_2014/11858716542.html
DTEND:20140330T060000
DTSTART:20140330T053000
UID:/content/rbb/rbb/fernsehen/programm/30_03_2014/11858716542
DTSTAMP:20140404T180711
DESCRIPTION:Stimmungsvolle Bilder von Fahrten durch das erwachende Potsdam, untermalt vom Soundtrack der Großstadtnacht.
SUMMARY:Potsdam erwacht 30.03.2014 05:30
END:VEVENT
END:VCALENDAR
