BEGIN:VCALENDAR
X-WR-TIMEZONE:Europe/Berlin
X-WR-CALNAME:rbb-Kalender
VERSION:2.0
METHOD:PUBLISH
CALSCALE:GREGORIAN
PRODID:rbb-CMS DAY
BEGIN:VEVENT
LOCATION:Der Club zum Mitmachen
CLASS:PUBLIC
URL:http://www.rbb-online.de/content/rbb/rbb/fernsehen/programm/30_03_2014/11858716550.html
DTEND:20140330T070000
DTSTART:20140330T060000
UID:/content/rbb/rbb/fernsehen/programm/30_03_2014/11858716550
DTSTAMP:20140404T191618
DESCRIPTION:Basketball mit Nationalspieler Per Günter und Philipp Schwethelm:\n* Per Günther (25) und Phlipp Schwethelm (24) gehören zum deutschen Basketball, wie der Adler auf die Brust der Nationalmannschaft. Gemeinsam spielen sie auch im Verein und gehen dort Woche für Woche auf Korbjagd. Per als genialer Aufbauspieler, der sein Team aus Ulm immer wieder perfekt in Szene setzt - und dabei aber auch selbst immer fleißig punktet - und Philipp als treffsicherer Schütze jenseits der Drei-Punkte-Linie. Im "Tigerenten Club" zeigen die beiden Top-Stars einige ihrer Tricks und verraten, was außer Basketball in ihrem Leben noch eine Rolle spielt.
SUMMARY:Tigerenten Club 30.03.2014 06:00
END:VEVENT
END:VCALENDAR
