BEGIN:VCALENDAR
X-WR-TIMEZONE:Europe/Berlin
X-WR-CALNAME:rbb-Kalender
VERSION:2.0
METHOD:PUBLISH
CALSCALE:GREGORIAN
PRODID:rbb-CMS DAY
BEGIN:VEVENT
LOCATION:mit Sport
CLASS:PUBLIC
URL:http://www.rbb-online.de/content/rbb/rbb/fernsehen/programm/30_03_2014/11858716607.html
DTEND:20140330T083000
DTSTART:20140330T080000
UID:/content/rbb/rbb/fernsehen/programm/30_03_2014/11858716607
DTSTAMP:20140404T191447
DESCRIPTION:Themen u.a.:\n* Mindestlohn contra Spargelanbau\n* Landesausscheid Jugend musiziert\n* Bernaus Bürgermeister vor der Abwahl?\n\nModeration: Tatjana Jury
SUMMARY:Brandenburg aktuell 30.03.2014 08:00
END:VEVENT
END:VCALENDAR
