BEGIN:VCALENDAR
X-WR-TIMEZONE:Europe/Berlin
X-WR-CALNAME:rbb-Kalender
VERSION:2.0
METHOD:PUBLISH
CALSCALE:GREGORIAN
PRODID:rbb-CMS DAY
BEGIN:VEVENT
LOCATION:Geschichten aus dem Zoo Berlin und dem Tierpark Berlin
CLASS:PUBLIC
URL:http://www.rbb-online.de/content/rbb/rbb/fernsehen/programm/30_03_2014/11858716685.html
DTEND:20140330T114500
DTSTART:20140330T110000
UID:/content/rbb/rbb/fernsehen/programm/30_03_2014/11858716685
DTSTAMP:20140404T191730
DESCRIPTION:Im Alfred-Brehm-Haus hat Java-Leopardin Shinta in diesem Jahr wieder ein Jungtier zur Welt gebracht! Der acht Wochen alte Leopardenjunge Timang bringt rund zwei Kilogramm auf die Waage und unternimmt bereits erste Ausflüge in die Schaubox des Raubtierhauses. Außerhalb Indonesiens ist der Tierpark Berlin die einzige zoologische Einrichtung weltweit, die zurzeit Java-Leoparden züchtet.
SUMMARY:Panda, Gorilla & Co. 30.03.2014 11:00
END:VEVENT
END:VCALENDAR
