BEGIN:VCALENDAR
X-WR-TIMEZONE:Europe/Berlin
X-WR-CALNAME:rbb-Kalender
VERSION:2.0
METHOD:PUBLISH
CALSCALE:GREGORIAN
PRODID:rbb-CMS DAY
BEGIN:VEVENT
LOCATION:Zoogeschichten von der Küste
CLASS:PUBLIC
URL:http://www.rbb-online.de/content/rbb/rbb/fernsehen/programm/30_03_2014/11858716705.html
DTEND:20140330T121500
DTSTART:20140330T114500
UID:/content/rbb/rbb/fernsehen/programm/30_03_2014/11858716705
DTSTAMP:20140404T191358
DESCRIPTION:Tapirmädchen "Xinga" soll in die Box. Mutter und Vater drängeln sich aber beim Kistentraining vor. Es ist heiß im Jaderpark und die Giraffen sollen die Möglichkeit bekommen, sich abzukühlen. Henning Kloppe hat eine Dusche für die Giraffen gebaut. Puma "Mingo" wird heute operiert.
SUMMARY:Seehund, Puma & Co. 30.03.2014 11:45
END:VEVENT
END:VCALENDAR
