BEGIN:VCALENDAR
X-WR-TIMEZONE:Europe/Berlin
X-WR-CALNAME:rbb-Kalender
VERSION:2.0
METHOD:PUBLISH
CALSCALE:GREGORIAN
PRODID:rbb-CMS DAY
BEGIN:VEVENT
LOCATION:Das MDR-Erfindermagazin
CLASS:PUBLIC
URL:http://www.rbb-online.de/content/rbb/rbb/fernsehen/programm/30_03_2014/11858716750.html
DTEND:20140330T135500
DTSTART:20140330T132500
UID:/content/rbb/rbb/fernsehen/programm/30_03_2014/11858716750
DTSTAMP:20140404T191509
DESCRIPTION:Themen:\n* Drei, Zwei, Eins, Zündung…\n* Gesichert: Wie das Fahrrad im Keller vor Dieben geschützt ist\n* Verkleinert: Wie ein Ring beim Laptop die Maus ersetzt\n* Umgebaut: Wie ein Fahrradweg zum Hochwasserschutz wird\n\nModeration: Arne Voigts
SUMMARY:Einfach genial 30.03.2014 13:25
END:VEVENT
END:VCALENDAR
