BEGIN:VCALENDAR
X-WR-TIMEZONE:Europe/Berlin
X-WR-CALNAME:rbb-Kalender
VERSION:2.0
METHOD:PUBLISH
CALSCALE:GREGORIAN
PRODID:rbb-CMS DAY
BEGIN:VEVENT
CLASS:PUBLIC
URL:http://www.rbb-online.de/content/rbb/rbb/fernsehen/programm/30_03_2014/11858716981.html
DTEND:20140330T201500
DTSTART:20140330T200000
UID:/content/rbb/rbb/fernsehen/programm/30_03_2014/11858716981
DTSTAMP:20140404T191735
DESCRIPTION:Themen u.a.:\n* Türkei: Kommunalwahl als Stimmungsbarometer\n* Slowakei: Millionär Kiska siegt bei Präsidentschaftswahl\n* Berlin: Diskussion über Energiewende\n* Fußball-Bundesliga: 28. Spieltag\n* Basketball: ALBA Berlin Pokalsieger
SUMMARY:Tagesschau 30.03.2014 20:00
END:VEVENT
END:VCALENDAR
