BEGIN:VCALENDAR
X-WR-TIMEZONE:Europe/Berlin
X-WR-CALNAME:rbb-Kalender
VERSION:2.0
METHOD:PUBLISH
CALSCALE:GREGORIAN
PRODID:rbb-CMS DAY
BEGIN:VEVENT
LOCATION:Platzt der Lebenstraum?
CLASS:PUBLIC
URL:http://www.rbb-online.de/content/rbb/rbb/fernsehen/programm/31_03_2014/11862341745.html
DTEND:20140331T013000
DTSTART:20140331T010000
UID:/content/rbb/rbb/fernsehen/programm/31_03_2014/11862341745
DTSTAMP:20140404T191525
DESCRIPTION:In der Alten-WG von Brigitte Ponstein kriselt es. Vor zwei Jahren ist die 71-Jährige mit drei Freundinnen in eine große Altbauwohnung in Berlin-Steglitz gezogen, um ihren Traum vom gemeinsamen Wohnen im Alter zu verwirklichen. Doch von Anfang an gab es Probleme. Schließlich gibt eine Frau auf und zieht nach den vielen heftigen Streitereien aus. Brigitte Ponstein ist desillusioniert, aber will trotzdem weitermachen. Sie findet eine neue Mitbewohnerin, Ingrid.
SUMMARY:Die Alten-WG 31.03.2014 01:00
END:VEVENT
END:VCALENDAR
