BEGIN:VCALENDAR
X-WR-TIMEZONE:Europe/Berlin
X-WR-CALNAME:rbb-Kalender
VERSION:2.0
METHOD:PUBLISH
CALSCALE:GREGORIAN
PRODID:rbb-CMS DAY
BEGIN:VEVENT
LOCATION:Moderation: Hellmuth Henneberg
CLASS:PUBLIC
URL:http://www.rbb-online.de/content/rbb/rbb/fernsehen/programm/31_03_2014/11862341858.html
DTEND:20140331T043000
DTSTART:20140331T040000
UID:/content/rbb/rbb/fernsehen/programm/31_03_2014/11862341858
DTSTAMP:20140404T191654
DESCRIPTION:Hellmuth Henneberg meldet sich aus dem Park Sanssouci in Potsdam und nimmt die Zuschauer mit auf einen Spaziergang abseits der großen Hauptwege. Verführerisch wie ein Paradiesapfel präsentiert\nsich der Park in der Saison 2014 ... Themen u.a.:\n* Vorbeitungen zur Ausstellung "Paradiesapfel" im Park Sanssouci\n* Der lange Weg zur neuen Sorte\n* Die Vitaminstraße\n* Aurikel wiederentdeckt\n* Gartentipps von Profis
SUMMARY:rbb Gartenzeit 31.03.2014 04:00
END:VEVENT
END:VCALENDAR
