BEGIN:VCALENDAR
X-WR-TIMEZONE:Europe/Berlin
X-WR-CALNAME:rbb-Kalender
VERSION:2.0
METHOD:PUBLISH
CALSCALE:GREGORIAN
PRODID:rbb-CMS DAY
BEGIN:VEVENT
LOCATION:Deutsch-polnisches Journal
CLASS:PUBLIC
URL:http://www.rbb-online.de/content/rbb/rbb/fernsehen/programm/31_03_2014/11862341949.html
DTEND:20140331T070000
DTSTART:20140331T063000
UID:/content/rbb/rbb/fernsehen/programm/31_03_2014/11862341949
DTSTAMP:20140404T194337
DESCRIPTION:Themen der Sendung:\n* Ein Deutscher im Schloss\n* Porta Polonica in Bochum\n* "Lauf, Junge, lauf"\n* Ein Koreaner in Berlin\n* Kogel-Mogel - Polnisch für Anfänger\n\nModeration: Ola Rosiak und Daniel Finger
SUMMARY:Kowalski & Schmidt 31.03.2014 06:30
END:VEVENT
END:VCALENDAR
