BEGIN:VCALENDAR
X-WR-TIMEZONE:Europe/Berlin
X-WR-CALNAME:rbb-Kalender
VERSION:2.0
METHOD:PUBLISH
CALSCALE:GREGORIAN
PRODID:rbb-CMS DAY
BEGIN:VEVENT
LOCATION:Ein Kamel auf Eiern
CLASS:PUBLIC
URL:http://www.rbb-online.de/content/rbb/rbb/fernsehen/programm/31_03_2014/11862341995.html
DTEND:20140331T074000
DTSTART:20140331T073000
UID:/content/rbb/rbb/fernsehen/programm/31_03_2014/11862341995
DTSTAMP:20140404T194206
DESCRIPTION:Ein Wettbewerb in der Wüste - Kamel gegen Mensch. Das Ziel: leichtfüßig über den Sand schreiten. Der Sieger: eindeutig das Kamel. Dabei bringt es satte 500 Kilogramm mehr auf die Waage als die menschliche Konkurrentin. Das Kamel hat aber einen anatomischen Vorteil: Vier große und flache Sohlen verteilen sein Körpergewicht perfekt. Der zweibeinige, stiefeltragende Mensch dagegen versinkt chancenlos im Sand. Wie gut die Gewichtsverteilung des Kamels wirklich ist, darüber soll der Eiertest Klarheit schaffen. Dazu wird das Kamel auf 500 Eier gestellt.
SUMMARY:Achtung! Experiment 31.03.2014 07:30
END:VEVENT
END:VCALENDAR
