BEGIN:VCALENDAR
X-WR-TIMEZONE:Europe/Berlin
X-WR-CALNAME:rbb-Kalender
VERSION:2.0
METHOD:PUBLISH
CALSCALE:GREGORIAN
PRODID:rbb-CMS DAY
BEGIN:VEVENT
LOCATION:Der schwebende Wal
CLASS:PUBLIC
URL:http://www.rbb-online.de/content/rbb/rbb/fernsehen/programm/31_03_2014/11862342036.html
DTEND:20140331T080000
DTSTART:20140331T075000
UID:/content/rbb/rbb/fernsehen/programm/31_03_2014/11862342036
DTSTAMP:20140404T194406
DESCRIPTION:Das Geheimnis des Ballonflugs ist heiße Luft. Die Fahrer erhitzen die Luft mit einem Brenner, bis die Füllung ausreichend heiß ist. Ob dieser Trick auch mit der Kraft der Sonne funktioniert, wird getestet: Ein 50 Meter langer Ballon in der Form eines Wals, der ausschließlich von Sonnenstrahlen erwärmt wird, soll aufsteigen.
SUMMARY:Achtung! Experiment 31.03.2014 07:50
END:VEVENT
END:VCALENDAR
