BEGIN:VCALENDAR
X-WR-TIMEZONE:Europe/Berlin
X-WR-CALNAME:rbb-Kalender
VERSION:2.0
METHOD:PUBLISH
CALSCALE:GREGORIAN
PRODID:rbb-CMS DAY
BEGIN:VEVENT
LOCATION:Leben & genießen
CLASS:PUBLIC
URL:http://www.rbb-online.de/content/rbb/rbb/fernsehen/programm/31_03_2014/11862342129.html
DTEND:20140331T103500
DTSTART:20140331T095500
UID:/content/rbb/rbb/fernsehen/programm/31_03_2014/11862342129
DTSTAMP:20140404T194319
DESCRIPTION:Themen:\n* Guten Appetit: Michael Kempf bereitet Forelle mit Emulsion von Staudensellerie, Erbsen und Ingwer zu\n* Ratgeber Ernährung: Der Unterwasser-Filmer\n* Hallo Buffet: Gemüsegarten im Frühling! Ihre Fragen zum Thema werden von Gärtnermeister Peter Berg beantwortet.\n* Großstadtmenschen: Portrait Felix Finkbeiner\n* Die gute Idee mit Nadine Weckardt: Strauß mit blauen Blumen\n\nModeration: Florian Weber
SUMMARY:ARD-Buffet 31.03.2014 09:55
END:VEVENT
END:VCALENDAR
