BEGIN:VCALENDAR
X-WR-TIMEZONE:Europe/Berlin
X-WR-CALNAME:rbb-Kalender
VERSION:2.0
METHOD:PUBLISH
CALSCALE:GREGORIAN
PRODID:rbb-CMS DAY
BEGIN:VEVENT
LOCATION:Fernsehserie Deutschland 2014
CLASS:PUBLIC
URL:http://www.rbb-online.de/content/rbb/rbb/fernsehen/programm/31_03_2014/11862342161.html
DTEND:20140331T121500
DTSTART:20140331T112500
UID:/content/rbb/rbb/fernsehen/programm/31_03_2014/11862342161
DTSTAMP:20140404T194352
DESCRIPTION:Goran meldet der Versicherung, dass er während des Unfalls nicht angeschnallt war. Auch wenn Nils seine Aufrichtigkeit zu schätzen weiß, erfährt er von der Polizei, dass er als Fahrer die Verantwortung für alle Mitfahrer trägt und daher mit einem saftigen Bußgeld rechnen muss. Währenddessen hat Sabrina Angst, dass sie bald ebenfalls unter Nils' mysteriöser Schlafkrankheit leiden wird. Sie beschließt, einen Bluttest zu machen, obwohl sich Nils wieder auf dem Weg der Besserung befindet. Da erfährt Michael vom Labor, dass Nils durch den Stich einer in Deutschland selten vorkommenden Mückenart mit dem Virus infiziert wurde.
SUMMARY:Sturm der Liebe (1953) 31.03.2014 11:25
END:VEVENT
END:VCALENDAR
