BEGIN:VCALENDAR
X-WR-TIMEZONE:Europe/Berlin
X-WR-CALNAME:rbb-Kalender
VERSION:2.0
METHOD:PUBLISH
CALSCALE:GREGORIAN
PRODID:rbb-CMS DAY
BEGIN:VEVENT
LOCATION:Diamantenfieber
CLASS:PUBLIC
URL:http://www.rbb-online.de/content/rbb/rbb/fernsehen/programm/31_03_2014/11862342234.html
DTEND:20140331T141500
DTSTART:20140331T133000
UID:/content/rbb/rbb/fernsehen/programm/31_03_2014/11862342234
DTSTAMP:20140404T194334
DESCRIPTION:Jessica erhält ein Geburtstagsgeschenk, das ihr einbrockt, einen Mord lösen, einen Diamantendiebstahl vereiteln und das Leben einer Freundin retten zu müssen.
SUMMARY:Mord ist ihr Hobby (225) 31.03.2014 13:30
END:VEVENT
END:VCALENDAR
