BEGIN:VCALENDAR
X-WR-TIMEZONE:Europe/Berlin
X-WR-CALNAME:rbb-Kalender
VERSION:2.0
METHOD:PUBLISH
CALSCALE:GREGORIAN
PRODID:rbb-CMS DAY
BEGIN:VEVENT
LOCATION:Moderation: Birgit Klaus und Dennis Wilms
CLASS:PUBLIC
URL:http://www.rbb-online.de/content/rbb/rbb/fernsehen/programm/31_03_2014/11862342255.html
DTEND:20140331T151500
DTSTART:20140331T141500
UID:/content/rbb/rbb/fernsehen/programm/31_03_2014/11862342255
DTSTAMP:20140404T194343
DESCRIPTION:Kann man wirklich von dem leben, was andere aussortieren, übrig haben oder wegwerfen? Raphael Fellmer wollte es wissen und trat vor drei Jahren zusammen mit seiner Familie in einen Geld- und Konsumstreik. Der währt bis heute. Weder für Lebensmittel noch für Kleidung noch für eine Wohnung ist ein einziger Cent da. Trotzdem lebt die Familie gut.
SUMMARY:Planet Wissen: Gut leben - mit oder ohne Geld? 31.03.2014 14:15
END:VEVENT
END:VCALENDAR
